BEGIN:VCALENDAR
VERSION:2.0
PRODID:-//Sentrumkirken - ECPv6.8.3//NONSGML v1.0//EN
CALSCALE:GREGORIAN
METHOD:PUBLISH
X-WR-CALNAME:Sentrumkirken
X-ORIGINAL-URL:https://www.sentrumkirken.no
X-WR-CALDESC:Arrangement for Sentrumkirken
REFRESH-INTERVAL;VALUE=DURATION:PT1H
X-Robots-Tag:noindex
X-PUBLISHED-TTL:PT1H
BEGIN:VTIMEZONE
TZID:Europe/Oslo
BEGIN:DAYLIGHT
TZOFFSETFROM:+0100
TZOFFSETTO:+0200
TZNAME:CEST
DTSTART:20230326T010000
END:DAYLIGHT
BEGIN:STANDARD
TZOFFSETFROM:+0200
TZOFFSETTO:+0100
TZNAME:CET
DTSTART:20231029T010000
END:STANDARD
END:VTIMEZONE
BEGIN:VEVENT
DTSTART;TZID=Europe/Oslo:20230604T110000
DTEND;TZID=Europe/Oslo:20230604T123000
DTSTAMP:20260426T030250
CREATED:20230520T012009Z
LAST-MODIFIED:20230520T012703Z
UID:4836-1685876400-1685881800@www.sentrumkirken.no
SUMMARY:Kirke i Kultursenteret. Tale: Jørn Syversen. Sommerfest på Kidzone!
DESCRIPTION:
URL:https://www.sentrumkirken.no/aktivitet/kirke-i-kultursenteret-tale-jorn-syversen-sommerfest-pa-kidzone/
CATEGORIES:Gudstjenester,Kalender,Samlinger
END:VEVENT
END:VCALENDAR