BEGIN:VCALENDAR
VERSION:2.0
PRODID:-//Sentrumkirken - ECPv6.8.3//NONSGML v1.0//EN
CALSCALE:GREGORIAN
METHOD:PUBLISH
X-ORIGINAL-URL:https://www.sentrumkirken.no
X-WR-CALDESC:Arrangement for Sentrumkirken
REFRESH-INTERVAL;VALUE=DURATION:PT1H
X-Robots-Tag:noindex
X-PUBLISHED-TTL:PT1H
BEGIN:VTIMEZONE
TZID:Europe/Oslo
BEGIN:DAYLIGHT
TZOFFSETFROM:+0100
TZOFFSETTO:+0200
TZNAME:CEST
DTSTART:20230326T010000
END:DAYLIGHT
BEGIN:STANDARD
TZOFFSETFROM:+0200
TZOFFSETTO:+0100
TZNAME:CET
DTSTART:20231029T010000
END:STANDARD
END:VTIMEZONE
BEGIN:VEVENT
DTSTART;TZID=Europe/Oslo:20230625T120000
DTEND;TZID=Europe/Oslo:20230625T120000
DTSTAMP:20260426T030732
CREATED:20230621T091251Z
LAST-MODIFIED:20230621T092155Z
UID:4921-1687694400-1687694400@www.sentrumkirken.no
SUMMARY:Felleskirkelig sommergudstjeneste i Ringkollkapellet
DESCRIPTION:
URL:https://www.sentrumkirken.no/aktivitet/felleskristen-sommergudstjeneste-i-ringkollkapellet/
LOCATION:Ringkollen
CATEGORIES:Gudstjenester,Kalender
END:VEVENT
END:VCALENDAR