BEGIN:VCALENDAR
VERSION:2.0
PRODID:-//Sentrumkirken - ECPv6.8.3//NONSGML v1.0//EN
CALSCALE:GREGORIAN
METHOD:PUBLISH
X-ORIGINAL-URL:https://www.sentrumkirken.no
X-WR-CALDESC:Arrangement for Sentrumkirken
REFRESH-INTERVAL;VALUE=DURATION:PT1H
X-Robots-Tag:noindex
X-PUBLISHED-TTL:PT1H
BEGIN:VTIMEZONE
TZID:Europe/Oslo
BEGIN:DAYLIGHT
TZOFFSETFROM:+0100
TZOFFSETTO:+0200
TZNAME:CEST
DTSTART:20230326T010000
END:DAYLIGHT
BEGIN:STANDARD
TZOFFSETFROM:+0200
TZOFFSETTO:+0100
TZNAME:CET
DTSTART:20231029T010000
END:STANDARD
END:VTIMEZONE
BEGIN:VEVENT
DTSTART;TZID=Europe/Oslo:20230903T110000
DTEND;TZID=Europe/Oslo:20230903T123000
DTSTAMP:20260425T221029
CREATED:20230810T113720Z
LAST-MODIFIED:20230810T114006Z
UID:5002-1693738800-1693744200@www.sentrumkirken.no
SUMMARY:Kirke i Kultursenteret. Besøk av Thomas Neteland.
DESCRIPTION:
URL:https://www.sentrumkirken.no/aktivitet/kirke-i-kultursenteret-besok-av-thomas-neteland/
LOCATION:Bysalen Amfi\, Ringerike Kultursenter
CATEGORIES:Gudstjenester,Kalender
END:VEVENT
END:VCALENDAR