BEGIN:VCALENDAR
VERSION:2.0
PRODID:-//Sentrumkirken - ECPv6.8.3//NONSGML v1.0//EN
CALSCALE:GREGORIAN
METHOD:PUBLISH
X-WR-CALNAME:Sentrumkirken
X-ORIGINAL-URL:https://www.sentrumkirken.no
X-WR-CALDESC:Arrangement for Sentrumkirken
REFRESH-INTERVAL;VALUE=DURATION:PT1H
X-Robots-Tag:noindex
X-PUBLISHED-TTL:PT1H
BEGIN:VTIMEZONE
TZID:Europe/Oslo
BEGIN:DAYLIGHT
TZOFFSETFROM:+0100
TZOFFSETTO:+0200
TZNAME:CEST
DTSTART:20240331T010000
END:DAYLIGHT
BEGIN:STANDARD
TZOFFSETFROM:+0200
TZOFFSETTO:+0100
TZNAME:CET
DTSTART:20241027T010000
END:STANDARD
END:VTIMEZONE
BEGIN:VEVENT
DTSTART;TZID=Europe/Oslo:20240922T110000
DTEND;TZID=Europe/Oslo:20240922T123000
DTSTAMP:20260425T025055
CREATED:20240920T073102Z
LAST-MODIFIED:20240920T073125Z
UID:5521-1727002800-1727008200@www.sentrumkirken.no
SUMMARY:Kirke i Kulturhuset
DESCRIPTION:Tale: Jørn Syversen \nKidzone for barna og Tweens \nSang og musikk: Marita B. Djupvik og Jostein Danielsen \nKirkekaffe
URL:https://www.sentrumkirken.no/aktivitet/kirke-i-kulturhuset-6/
LOCATION:Amfiscenen
CATEGORIES:Gudstjenester,Kalender
END:VEVENT
END:VCALENDAR