BEGIN:VCALENDAR
VERSION:2.0
PRODID:-//Sentrumkirken - ECPv6.8.3//NONSGML v1.0//EN
CALSCALE:GREGORIAN
METHOD:PUBLISH
X-WR-CALNAME:Sentrumkirken
X-ORIGINAL-URL:https://www.sentrumkirken.no
X-WR-CALDESC:Arrangement for Sentrumkirken
REFRESH-INTERVAL;VALUE=DURATION:PT1H
X-Robots-Tag:noindex
X-PUBLISHED-TTL:PT1H
BEGIN:VTIMEZONE
TZID:Europe/Oslo
BEGIN:DAYLIGHT
TZOFFSETFROM:+0100
TZOFFSETTO:+0200
TZNAME:CEST
DTSTART:20250330T010000
END:DAYLIGHT
BEGIN:STANDARD
TZOFFSETFROM:+0200
TZOFFSETTO:+0100
TZNAME:CET
DTSTART:20251026T010000
END:STANDARD
END:VTIMEZONE
BEGIN:VEVENT
DTSTART;TZID=Europe/Oslo:20250504T110000
DTEND;TZID=Europe/Oslo:20250504T120000
DTSTAMP:20260424T132418
CREATED:20250424T092127Z
LAST-MODIFIED:20250427T193226Z
UID:5853-1746356400-1746360000@www.sentrumkirken.no
SUMMARY:Konfirmasjon
DESCRIPTION:
URL:https://www.sentrumkirken.no/aktivitet/konfirmasjon-3/
LOCATION:Amfiscenen
CATEGORIES:Arrangementer,Gudstjenester,Kalender
END:VEVENT
END:VCALENDAR