BEGIN:VCALENDAR
VERSION:2.0
PRODID:-//Sentrumkirken - ECPv6.8.3//NONSGML v1.0//EN
CALSCALE:GREGORIAN
METHOD:PUBLISH
X-ORIGINAL-URL:https://www.sentrumkirken.no
X-WR-CALDESC:Arrangement for Sentrumkirken
REFRESH-INTERVAL;VALUE=DURATION:PT1H
X-Robots-Tag:noindex
X-PUBLISHED-TTL:PT1H
BEGIN:VTIMEZONE
TZID:Europe/Oslo
BEGIN:DAYLIGHT
TZOFFSETFROM:+0100
TZOFFSETTO:+0200
TZNAME:CEST
DTSTART:20250330T010000
END:DAYLIGHT
BEGIN:STANDARD
TZOFFSETFROM:+0200
TZOFFSETTO:+0100
TZNAME:CET
DTSTART:20251026T010000
END:STANDARD
END:VTIMEZONE
BEGIN:VEVENT
DTSTART;TZID=Europe/Oslo:20250527T190000
DTEND;TZID=Europe/Oslo:20250527T210000
DTSTAMP:20260424T120626
CREATED:20250514T081735Z
LAST-MODIFIED:20250514T081748Z
UID:5912-1748372400-1748379600@www.sentrumkirken.no
SUMMARY:Dialogsamling for foreldre til ungdom og tweens.
DESCRIPTION:
URL:https://www.sentrumkirken.no/aktivitet/dialogsamling-for-foreldre-til-ungdom-og-tweens-cafe-freezone-kl-19-21/
LOCATION:Cafe Freezone
CATEGORIES:Kalender,Samlinger
END:VEVENT
END:VCALENDAR