BEGIN:VCALENDAR
VERSION:2.0
PRODID:-//Sentrumkirken - ECPv6.8.3//NONSGML v1.0//EN
CALSCALE:GREGORIAN
METHOD:PUBLISH
X-WR-CALNAME:Sentrumkirken
X-ORIGINAL-URL:https://www.sentrumkirken.no
X-WR-CALDESC:Arrangement for Sentrumkirken
REFRESH-INTERVAL;VALUE=DURATION:PT1H
X-Robots-Tag:noindex
X-PUBLISHED-TTL:PT1H
BEGIN:VTIMEZONE
TZID:Europe/Oslo
BEGIN:DAYLIGHT
TZOFFSETFROM:+0100
TZOFFSETTO:+0200
TZNAME:CEST
DTSTART:20250330T010000
END:DAYLIGHT
BEGIN:STANDARD
TZOFFSETFROM:+0200
TZOFFSETTO:+0100
TZNAME:CET
DTSTART:20251026T010000
END:STANDARD
END:VTIMEZONE
BEGIN:VEVENT
DTSTART;TZID=Europe/Oslo:20250616T190000
DTEND;TZID=Europe/Oslo:20250616T190000
DTSTAMP:20260424T115957
CREATED:20250612T150419Z
LAST-MODIFIED:20250612T150549Z
UID:5955-1750100400-1750100400@www.sentrumkirken.no
SUMMARY:Mandagssamling. Matteus evangeliet – del 4
DESCRIPTION:
URL:https://www.sentrumkirken.no/aktivitet/mandagssamling-cafe-freezone-matteus-evangeliet-del-4/
LOCATION:Cafe Freezone
CATEGORIES:Kalender,Samlinger
END:VEVENT
END:VCALENDAR