BEGIN:VCALENDAR
VERSION:2.0
PRODID:-//Sentrumkirken - ECPv6.8.3//NONSGML v1.0//EN
CALSCALE:GREGORIAN
METHOD:PUBLISH
X-ORIGINAL-URL:https://www.sentrumkirken.no
X-WR-CALDESC:Arrangement for Sentrumkirken
REFRESH-INTERVAL;VALUE=DURATION:PT1H
X-Robots-Tag:noindex
X-PUBLISHED-TTL:PT1H
BEGIN:VTIMEZONE
TZID:Europe/Oslo
BEGIN:DAYLIGHT
TZOFFSETFROM:+0100
TZOFFSETTO:+0200
TZNAME:CEST
DTSTART:20250330T010000
END:DAYLIGHT
BEGIN:STANDARD
TZOFFSETFROM:+0200
TZOFFSETTO:+0100
TZNAME:CET
DTSTART:20251026T010000
END:STANDARD
END:VTIMEZONE
BEGIN:VEVENT
DTSTART;TZID=Europe/Oslo:20250824T110000
DTEND;TZID=Europe/Oslo:20250824T123000
DTSTAMP:20260424T093529
CREATED:20250713T102038Z
LAST-MODIFIED:20250811T185717Z
UID:6006-1756033200-1756038600@www.sentrumkirken.no
SUMMARY:Kirke i Kulturhuset
DESCRIPTION:Stian A. Høibråten taler.
URL:https://www.sentrumkirken.no/aktivitet/kirke-i-kulturhuset-bassgarasjen/
LOCATION:Bassgarasjen
CATEGORIES:Gudstjenester,Kalender
END:VEVENT
END:VCALENDAR