BEGIN:VCALENDAR
VERSION:2.0
PRODID:-//Sentrumkirken - ECPv6.8.3//NONSGML v1.0//EN
CALSCALE:GREGORIAN
METHOD:PUBLISH
X-WR-CALNAME:Sentrumkirken
X-ORIGINAL-URL:https://www.sentrumkirken.no
X-WR-CALDESC:Arrangement for Sentrumkirken
REFRESH-INTERVAL;VALUE=DURATION:PT1H
X-Robots-Tag:noindex
X-PUBLISHED-TTL:PT1H
BEGIN:VTIMEZONE
TZID:Europe/Oslo
BEGIN:DAYLIGHT
TZOFFSETFROM:+0100
TZOFFSETTO:+0200
TZNAME:CEST
DTSTART:20250330T010000
END:DAYLIGHT
BEGIN:STANDARD
TZOFFSETFROM:+0200
TZOFFSETTO:+0100
TZNAME:CET
DTSTART:20251026T010000
END:STANDARD
END:VTIMEZONE
BEGIN:VEVENT
DTSTART;TZID=Europe/Oslo:20250902T170000
DTEND;TZID=Europe/Oslo:20250902T193000
DTSTAMP:20260424T080155
CREATED:20250829T122308Z
LAST-MODIFIED:20250829T123625Z
UID:6057-1756832400-1756841400@www.sentrumkirken.no
SUMMARY:Kulturakademiet - med foreldrekafé
DESCRIPTION:
URL:https://www.sentrumkirken.no/aktivitet/kulturakademiet-tirsdager-med-foreldrekafe/
LOCATION:Amfiscenen
CATEGORIES:Kalender,Øvelser
END:VEVENT
END:VCALENDAR