BEGIN:VCALENDAR
VERSION:2.0
PRODID:-//Sentrumkirken - ECPv6.8.3//NONSGML v1.0//EN
CALSCALE:GREGORIAN
METHOD:PUBLISH
X-ORIGINAL-URL:https://www.sentrumkirken.no
X-WR-CALDESC:Arrangement for Sentrumkirken
REFRESH-INTERVAL;VALUE=DURATION:PT1H
X-Robots-Tag:noindex
X-PUBLISHED-TTL:PT1H
BEGIN:VTIMEZONE
TZID:Europe/Oslo
BEGIN:DAYLIGHT
TZOFFSETFROM:+0100
TZOFFSETTO:+0200
TZNAME:CEST
DTSTART:20250330T010000
END:DAYLIGHT
BEGIN:STANDARD
TZOFFSETFROM:+0200
TZOFFSETTO:+0100
TZNAME:CET
DTSTART:20251026T010000
END:STANDARD
END:VTIMEZONE
BEGIN:VEVENT
DTSTART;TZID=Europe/Oslo:20251005T110000
DTEND;TZID=Europe/Oslo:20251005T123000
DTSTAMP:20260424T063222
CREATED:20250911T200103Z
LAST-MODIFIED:20250918T123555Z
UID:6112-1759662000-1759667400@www.sentrumkirken.no
SUMMARY:Kirke i Kulturhuset. Tale: Stian A. Høibråten. Sang: Maria Erlandsen.
DESCRIPTION:
URL:https://www.sentrumkirken.no/aktivitet/05-10-kirke-i-kulturhuset-tale-stian-a-hoibraten-sang-maria-erlandsen/
CATEGORIES:Gudstjenester,Kalender
END:VEVENT
END:VCALENDAR