BEGIN:VCALENDAR
VERSION:2.0
PRODID:-//Sentrumkirken - ECPv6.8.3//NONSGML v1.0//EN
CALSCALE:GREGORIAN
METHOD:PUBLISH
X-WR-CALNAME:Sentrumkirken
X-ORIGINAL-URL:https://www.sentrumkirken.no
X-WR-CALDESC:Arrangement for Sentrumkirken
REFRESH-INTERVAL;VALUE=DURATION:PT1H
X-Robots-Tag:noindex
X-PUBLISHED-TTL:PT1H
BEGIN:VTIMEZONE
TZID:Europe/Oslo
BEGIN:DAYLIGHT
TZOFFSETFROM:+0100
TZOFFSETTO:+0200
TZNAME:CEST
DTSTART:20250330T010000
END:DAYLIGHT
BEGIN:STANDARD
TZOFFSETFROM:+0200
TZOFFSETTO:+0100
TZNAME:CET
DTSTART:20251026T010000
END:STANDARD
END:VTIMEZONE
BEGIN:VEVENT
DTSTART;TZID=Europe/Oslo:20251011T190000
DTEND;TZID=Europe/Oslo:20251011T210000
DTSTAMP:20260424T062600
CREATED:20250918T123038Z
LAST-MODIFIED:20250918T123038Z
UID:6136-1760209200-1760216400@www.sentrumkirken.no
SUMMARY:Agape ungdomssamling med besøk av Mina Sofie Grøtterud Pedersen.
DESCRIPTION:
URL:https://www.sentrumkirken.no/aktivitet/agape-ungdomssamling-med-besok-av-mina-sofie-grotterud-pedersen/
LOCATION:Cafe Freezone
CATEGORIES:Kalender,Samlinger
END:VEVENT
END:VCALENDAR