BEGIN:VCALENDAR
VERSION:2.0
PRODID:-//Sentrumkirken - ECPv6.8.3//NONSGML v1.0//EN
CALSCALE:GREGORIAN
METHOD:PUBLISH
X-ORIGINAL-URL:https://www.sentrumkirken.no
X-WR-CALDESC:Arrangement for Sentrumkirken
REFRESH-INTERVAL;VALUE=DURATION:PT1H
X-Robots-Tag:noindex
X-PUBLISHED-TTL:PT1H
BEGIN:VTIMEZONE
TZID:Europe/Oslo
BEGIN:DAYLIGHT
TZOFFSETFROM:+0100
TZOFFSETTO:+0200
TZNAME:CEST
DTSTART:20250330T010000
END:DAYLIGHT
BEGIN:STANDARD
TZOFFSETFROM:+0200
TZOFFSETTO:+0100
TZNAME:CET
DTSTART:20251026T010000
END:STANDARD
END:VTIMEZONE
BEGIN:VEVENT
DTSTART;TZID=Europe/Oslo:20251102T110000
DTEND;TZID=Europe/Oslo:20251102T123000
DTSTAMP:20260424T050445
CREATED:20251002T111056Z
LAST-MODIFIED:20251030T084045Z
UID:6172-1762081200-1762086600@www.sentrumkirken.no
SUMMARY:Kirke i Kulturhuset kl 1100. Tale: Stian A. Høibråten. Sang\, musikk: Katrine Steen\, Jostein Frøyshov Danielsen
DESCRIPTION:
URL:https://www.sentrumkirken.no/aktivitet/kirke-i-kulturhuset-kl-1100-tale-stian-a-hoibraten-sang-katrine-steen/
LOCATION:Amfiscenen
CATEGORIES:Gudstjenester,Kalender
END:VEVENT
END:VCALENDAR