BEGIN:VCALENDAR
VERSION:2.0
PRODID:-//Sentrumkirken - ECPv6.8.3//NONSGML v1.0//EN
CALSCALE:GREGORIAN
METHOD:PUBLISH
X-ORIGINAL-URL:https://www.sentrumkirken.no
X-WR-CALDESC:Arrangement for Sentrumkirken
REFRESH-INTERVAL;VALUE=DURATION:PT1H
X-Robots-Tag:noindex
X-PUBLISHED-TTL:PT1H
BEGIN:VTIMEZONE
TZID:Europe/Oslo
BEGIN:DAYLIGHT
TZOFFSETFROM:+0100
TZOFFSETTO:+0200
TZNAME:CEST
DTSTART:20260329T010000
END:DAYLIGHT
BEGIN:STANDARD
TZOFFSETFROM:+0200
TZOFFSETTO:+0100
TZNAME:CET
DTSTART:20261025T010000
END:STANDARD
END:VTIMEZONE
BEGIN:VEVENT
DTSTART;VALUE=DATE:20260221
DTEND;VALUE=DATE:20260225
DTSTAMP:20260423T162606
CREATED:20260101T093528Z
LAST-MODIFIED:20260101T093809Z
UID:6329-1771632000-1771977599@www.sentrumkirken.no
SUMMARY:Vinterleir på Myking: Ungdom (8. klasse og eldre)
DESCRIPTION:
URL:https://www.sentrumkirken.no/aktivitet/vinterleir-pa-myking-ungdom-8-klasse-og-eldre/
LOCATION:Myking
CATEGORIES:Arrangementer,Kalender
END:VEVENT
END:VCALENDAR