BEGIN:VCALENDAR
VERSION:2.0
PRODID:-//Sentrumkirken - ECPv6.8.3//NONSGML v1.0//EN
CALSCALE:GREGORIAN
METHOD:PUBLISH
X-ORIGINAL-URL:https://www.sentrumkirken.no
X-WR-CALDESC:Arrangement for Sentrumkirken
REFRESH-INTERVAL;VALUE=DURATION:PT1H
X-Robots-Tag:noindex
X-PUBLISHED-TTL:PT1H
BEGIN:VTIMEZONE
TZID:Europe/Oslo
BEGIN:DAYLIGHT
TZOFFSETFROM:+0100
TZOFFSETTO:+0200
TZNAME:CEST
DTSTART:20260329T010000
END:DAYLIGHT
BEGIN:STANDARD
TZOFFSETFROM:+0200
TZOFFSETTO:+0100
TZNAME:CET
DTSTART:20261025T010000
END:STANDARD
END:VTIMEZONE
BEGIN:VEVENT
DTSTART;TZID=Europe/Oslo:20260225T080000
DTEND;TZID=Europe/Oslo:20260228T170000
DTSTAMP:20260423T170820
CREATED:20260101T093734Z
LAST-MODIFIED:20260101T093734Z
UID:6331-1772006400-1772298000@www.sentrumkirken.no
SUMMARY:Vinterleir på Myking: Tweens (4.-7. klasse)
DESCRIPTION:
URL:https://www.sentrumkirken.no/aktivitet/vinterleir-pa-myking-tweens-4-7-klasse/
LOCATION:Myking
CATEGORIES:Arrangementer,Kalender
END:VEVENT
END:VCALENDAR