BEGIN:VCALENDAR
VERSION:2.0
PRODID:-//Sentrumkirken - ECPv6.8.3//NONSGML v1.0//EN
CALSCALE:GREGORIAN
METHOD:PUBLISH
X-ORIGINAL-URL:https://www.sentrumkirken.no
X-WR-CALDESC:Arrangement for Sentrumkirken
REFRESH-INTERVAL;VALUE=DURATION:PT1H
X-Robots-Tag:noindex
X-PUBLISHED-TTL:PT1H
BEGIN:VTIMEZONE
TZID:Europe/Oslo
BEGIN:DAYLIGHT
TZOFFSETFROM:+0100
TZOFFSETTO:+0200
TZNAME:CEST
DTSTART:20260329T010000
END:DAYLIGHT
BEGIN:STANDARD
TZOFFSETFROM:+0200
TZOFFSETTO:+0100
TZNAME:CET
DTSTART:20261025T010000
END:STANDARD
END:VTIMEZONE
BEGIN:VEVENT
DTSTART;TZID=Europe/Oslo:20260407T120000
DTEND;TZID=Europe/Oslo:20260407T130000
DTSTAMP:20260421T133002
CREATED:20260404T083148Z
LAST-MODIFIED:20260404T083148Z
UID:6525-1775563200-1775566800@www.sentrumkirken.no
SUMMARY:Frivillighetslunsj
DESCRIPTION:
URL:https://www.sentrumkirken.no/aktivitet/frivillighetslunsj-3/
LOCATION:Cafe Freezone
CATEGORIES:Kalender,Samlinger
END:VEVENT
BEGIN:VEVENT
DTSTART;TZID=Europe/Oslo:20260407T170000
DTEND;TZID=Europe/Oslo:20260407T193000
DTSTAMP:20260421T133002
CREATED:20260404T083249Z
LAST-MODIFIED:20260404T083303Z
UID:6527-1775581200-1775590200@www.sentrumkirken.no
SUMMARY:Kulturakademiet
DESCRIPTION:
URL:https://www.sentrumkirken.no/aktivitet/07-04-kulturakademiet-tirsdag-kl-17-1930/
LOCATION:Amfiscenen
CATEGORIES:Kalender,Øvelser
END:VEVENT
END:VCALENDAR