BEGIN:VCALENDAR
VERSION:2.0
PRODID:-//Sentrumkirken - ECPv6.8.3//NONSGML v1.0//EN
CALSCALE:GREGORIAN
METHOD:PUBLISH
X-ORIGINAL-URL:https://www.sentrumkirken.no
X-WR-CALDESC:Arrangement for Sentrumkirken
REFRESH-INTERVAL;VALUE=DURATION:PT1H
X-Robots-Tag:noindex
X-PUBLISHED-TTL:PT1H
BEGIN:VTIMEZONE
TZID:Europe/Oslo
BEGIN:DAYLIGHT
TZOFFSETFROM:+0100
TZOFFSETTO:+0200
TZNAME:CEST
DTSTART:20260329T010000
END:DAYLIGHT
BEGIN:STANDARD
TZOFFSETFROM:+0200
TZOFFSETTO:+0100
TZNAME:CET
DTSTART:20261025T010000
END:STANDARD
END:VTIMEZONE
BEGIN:VEVENT
DTSTART;TZID=Europe/Oslo:20260414T120000
DTEND;TZID=Europe/Oslo:20260414T120000
DTSTAMP:20260421T133440
CREATED:20260410T091804Z
LAST-MODIFIED:20260410T092553Z
UID:6550-1776168000-1776168000@www.sentrumkirken.no
SUMMARY:Frivillighetslunsj
DESCRIPTION:
URL:https://www.sentrumkirken.no/aktivitet/frivillighetslunsj-4/
LOCATION:Cafe Freezone
CATEGORIES:Kalender,Samlinger
END:VEVENT
BEGIN:VEVENT
DTSTART;TZID=Europe/Oslo:20260414T170000
DTEND;TZID=Europe/Oslo:20260414T170000
DTSTAMP:20260421T133440
CREATED:20260410T091916Z
LAST-MODIFIED:20260410T092622Z
UID:6552-1776186000-1776186000@www.sentrumkirken.no
SUMMARY:Kulturakademiet
DESCRIPTION:
URL:https://www.sentrumkirken.no/aktivitet/kulturakademiet-27/
LOCATION:Amfiscenen
CATEGORIES:Kalender,Øvelser
END:VEVENT
END:VCALENDAR