BEGIN:VCALENDAR
VERSION:2.0
PRODID:-//Sentrumkirken - ECPv6.8.3//NONSGML v1.0//EN
CALSCALE:GREGORIAN
METHOD:PUBLISH
X-ORIGINAL-URL:https://www.sentrumkirken.no
X-WR-CALDESC:Arrangement for Sentrumkirken
REFRESH-INTERVAL;VALUE=DURATION:PT1H
X-Robots-Tag:noindex
X-PUBLISHED-TTL:PT1H
BEGIN:VTIMEZONE
TZID:Europe/Oslo
BEGIN:DAYLIGHT
TZOFFSETFROM:+0100
TZOFFSETTO:+0200
TZNAME:CEST
DTSTART:20250330T010000
END:DAYLIGHT
BEGIN:STANDARD
TZOFFSETFROM:+0200
TZOFFSETTO:+0100
TZNAME:CET
DTSTART:20251026T010000
END:STANDARD
END:VTIMEZONE
BEGIN:VEVENT
DTSTART;TZID=Europe/Oslo:20250826T170000
DTEND;TZID=Europe/Oslo:20250826T193000
DTSTAMP:20260424T112849
CREATED:20250713T102404Z
LAST-MODIFIED:20250713T102447Z
UID:6010-1756227600-1756236600@www.sentrumkirken.no
SUMMARY:Semesterstart Kulturakademiet
DESCRIPTION:
URL:https://www.sentrumkirken.no/aktivitet/semesterstart-kulturakademiet-2/
CATEGORIES:Kalender,Øvelser
END:VEVENT
END:VCALENDAR