BEGIN:VCALENDAR
VERSION:2.0
PRODID:-//Sentrumkirken - ECPv6.8.3//NONSGML v1.0//EN
CALSCALE:GREGORIAN
METHOD:PUBLISH
X-ORIGINAL-URL:https://www.sentrumkirken.no
X-WR-CALDESC:Arrangement for Sentrumkirken
REFRESH-INTERVAL;VALUE=DURATION:PT1H
X-Robots-Tag:noindex
X-PUBLISHED-TTL:PT1H
BEGIN:VTIMEZONE
TZID:Europe/Oslo
BEGIN:DAYLIGHT
TZOFFSETFROM:+0100
TZOFFSETTO:+0200
TZNAME:CEST
DTSTART:20230326T010000
END:DAYLIGHT
BEGIN:STANDARD
TZOFFSETFROM:+0200
TZOFFSETTO:+0100
TZNAME:CET
DTSTART:20231029T010000
END:STANDARD
END:VTIMEZONE
BEGIN:VEVENT
DTSTART;TZID=Europe/Oslo:20230514T160000
DTEND;TZID=Europe/Oslo:20230514T180000
DTSTAMP:20260426T030839
CREATED:20230421T072324Z
LAST-MODIFIED:20230421T072433Z
UID:4769-1684080000-1684087200@www.sentrumkirken.no
SUMMARY:Kulturakademiets vårkonsert - STJERNER
DESCRIPTION:
URL:https://www.sentrumkirken.no/aktivitet/kulturakademiets-varkonsert-stjerner/
LOCATION:Byscenen\, Ringerike Kultursenter
CATEGORIES:Arrangementer,Kalender
END:VEVENT
BEGIN:VEVENT
DTSTART;TZID=Europe/Oslo:20230523T190000
DTEND;TZID=Europe/Oslo:20230523T200000
DTSTAMP:20260426T030839
CREATED:20230520T011512Z
LAST-MODIFIED:20230520T011512Z
UID:4831-1684868400-1684872000@www.sentrumkirken.no
SUMMARY:Info.møte om AKU for konfirmanter født 2009 i Café Freezone.
DESCRIPTION:
URL:https://www.sentrumkirken.no/aktivitet/info-mote-om-aku-for-konfirmanter-fodt-2009-i-cafe-freezone/
CATEGORIES:Arrangementer,Kalender
END:VEVENT
BEGIN:VEVENT
DTSTART;TZID=Europe/Oslo:20230529T110000
DTEND;TZID=Europe/Oslo:20230529T123000
DTSTAMP:20260426T030839
CREATED:20230520T011732Z
LAST-MODIFIED:20230520T012730Z
UID:4834-1685358000-1685363400@www.sentrumkirken.no
SUMMARY:Kirke i Kultursenteret 2. pinsedag. Tale: Pål Asle Djupvik.
DESCRIPTION:
URL:https://www.sentrumkirken.no/aktivitet/kirke-i-kultursenteret-2-pinsedag-tale-pal-asle-djupvik/
CATEGORIES:Gudstjenester,Kalender
END:VEVENT
END:VCALENDAR