BEGIN:VCALENDAR
VERSION:2.0
PRODID:-//Sentrumkirken - ECPv6.8.3//NONSGML v1.0//EN
CALSCALE:GREGORIAN
METHOD:PUBLISH
X-WR-CALNAME:Sentrumkirken
X-ORIGINAL-URL:https://www.sentrumkirken.no
X-WR-CALDESC:Arrangement for Sentrumkirken
REFRESH-INTERVAL;VALUE=DURATION:PT1H
X-Robots-Tag:noindex
X-PUBLISHED-TTL:PT1H
BEGIN:VTIMEZONE
TZID:Europe/Oslo
BEGIN:DAYLIGHT
TZOFFSETFROM:+0100
TZOFFSETTO:+0200
TZNAME:CEST
DTSTART:20230326T010000
END:DAYLIGHT
BEGIN:STANDARD
TZOFFSETFROM:+0200
TZOFFSETTO:+0100
TZNAME:CET
DTSTART:20231029T010000
END:STANDARD
END:VTIMEZONE
BEGIN:VEVENT
DTSTART;TZID=Europe/Oslo:20230701T110000
DTEND;TZID=Europe/Oslo:20230701T110000
DTSTAMP:20260425T234250
CREATED:20230621T091608Z
LAST-MODIFIED:20230621T092138Z
UID:4924-1688209200-1688209200@www.sentrumkirken.no
SUMMARY:Felleskirkelig sommergudstjeneste på Tyrifjord
DESCRIPTION:
URL:https://www.sentrumkirken.no/aktivitet/felleskirkelig-sommergudstjeneste-pa-tyrifjord/
CATEGORIES:Gudstjenester,Kalender
END:VEVENT
BEGIN:VEVENT
DTSTART;TZID=Europe/Oslo:20230709T110000
DTEND;TZID=Europe/Oslo:20230709T110000
DTSTAMP:20260425T234250
CREATED:20230621T091756Z
LAST-MODIFIED:20230621T092118Z
UID:4926-1688900400-1688900400@www.sentrumkirken.no
SUMMARY:Felleskirkelig sommergudstjeneste i Metodistkirken
DESCRIPTION:
URL:https://www.sentrumkirken.no/aktivitet/felleskirkelig-sommergudstjeneste-i-metodistkirken/
CATEGORIES:Gudstjenester,Kalender
END:VEVENT
BEGIN:VEVENT
DTSTART;TZID=Europe/Oslo:20230716T110000
DTEND;TZID=Europe/Oslo:20230716T110000
DTSTAMP:20260425T234250
CREATED:20230621T092346Z
LAST-MODIFIED:20230621T092346Z
UID:4928-1689505200-1689505200@www.sentrumkirken.no
SUMMARY:Felleskirkelig sommergudstjeneste i Frelsesarmeen
DESCRIPTION:
URL:https://www.sentrumkirken.no/aktivitet/felleskirkelig-sommergudstjeneste-i-frelsesarmeen/
CATEGORIES:Gudstjenester,Kalender
END:VEVENT
BEGIN:VEVENT
DTSTART;TZID=Europe/Oslo:20230723T110000
DTEND;TZID=Europe/Oslo:20230723T110000
DTSTAMP:20260425T234250
CREATED:20230621T092522Z
LAST-MODIFIED:20230621T092522Z
UID:4930-1690110000-1690110000@www.sentrumkirken.no
SUMMARY:Felleskirkelig sommergudstjeneste
DESCRIPTION:
URL:https://www.sentrumkirken.no/aktivitet/felleskirkelig-sommergudstjeneste-15/
CATEGORIES:Gudstjenester,Kalender
END:VEVENT
BEGIN:VEVENT
DTSTART;TZID=Europe/Oslo:20230730T110000
DTEND;TZID=Europe/Oslo:20230730T110000
DTSTAMP:20260425T234250
CREATED:20230621T092625Z
LAST-MODIFIED:20230621T092625Z
UID:4932-1690714800-1690714800@www.sentrumkirken.no
SUMMARY:Felleskirkelig sommergudstjeneste i Frikirken
DESCRIPTION:
URL:https://www.sentrumkirken.no/aktivitet/felleskirkelig-sommergudstjeneste-i-frikirken/
CATEGORIES:Gudstjenester,Kalender
END:VEVENT
END:VCALENDAR