BEGIN:VCALENDAR
VERSION:2.0
PRODID:-//Sentrumkirken - ECPv6.8.3//NONSGML v1.0//EN
CALSCALE:GREGORIAN
METHOD:PUBLISH
X-ORIGINAL-URL:https://www.sentrumkirken.no
X-WR-CALDESC:Arrangement for Sentrumkirken
REFRESH-INTERVAL;VALUE=DURATION:PT1H
X-Robots-Tag:noindex
X-PUBLISHED-TTL:PT1H
BEGIN:VTIMEZONE
TZID:Europe/Oslo
BEGIN:DAYLIGHT
TZOFFSETFROM:+0100
TZOFFSETTO:+0200
TZNAME:CEST
DTSTART:20230326T010000
END:DAYLIGHT
BEGIN:STANDARD
TZOFFSETFROM:+0200
TZOFFSETTO:+0100
TZNAME:CET
DTSTART:20231029T010000
END:STANDARD
END:VTIMEZONE
BEGIN:VEVENT
DTSTART;TZID=Europe/Oslo:20230806T110000
DTEND;TZID=Europe/Oslo:20230806T110000
DTSTAMP:20260425T221030
CREATED:20230621T092705Z
LAST-MODIFIED:20230802T125539Z
UID:4934-1691319600-1691319600@www.sentrumkirken.no
SUMMARY:Felleskirkelig sommergudstjeneste i Filadelfia. Jørn Syversen taler.
DESCRIPTION:
URL:https://www.sentrumkirken.no/aktivitet/felleskirkelig-sommergudstjeneste-i-filadelfia/
CATEGORIES:Gudstjenester,Kalender
END:VEVENT
BEGIN:VEVENT
DTSTART;TZID=Europe/Oslo:20230813T120000
DTEND;TZID=Europe/Oslo:20230813T150000
DTSTAMP:20260425T221030
CREATED:20230802T131514Z
LAST-MODIFIED:20230809T181501Z
UID:4984-1691928000-1691938800@www.sentrumkirken.no
SUMMARY:Planlagt samling på Åsatangen er avlyst grunnet høy vannstand i Tyrifjorden og værprognoser med regn
DESCRIPTION:
URL:https://www.sentrumkirken.no/aktivitet/samling-pa-asatangen-grilling-bademuligheter-og-sosialt/
CATEGORIES:Kalender,Samlinger
END:VEVENT
BEGIN:VEVENT
DTSTART;TZID=Europe/Oslo:20230820T110000
DTEND;TZID=Europe/Oslo:20230820T130000
DTSTAMP:20260425T221030
CREATED:20230802T132339Z
LAST-MODIFIED:20230802T132852Z
UID:4986-1692529200-1692536400@www.sentrumkirken.no
SUMMARY:Kirke i Kultursenteret. Markering av Jørn som pastor i 20 år. Tale Kristin Moen Saxegaard.
DESCRIPTION:
URL:https://www.sentrumkirken.no/aktivitet/kirke-i-kultursenteret-markeign-av-jorn-som-pastor-i-20-ar-tale-kristin-moen-saxegaard/
CATEGORIES:Gudstjenester,Kalender
END:VEVENT
END:VCALENDAR