BEGIN:VCALENDAR
VERSION:2.0
PRODID:-//Sentrumkirken - ECPv6.8.3//NONSGML v1.0//EN
CALSCALE:GREGORIAN
METHOD:PUBLISH
X-ORIGINAL-URL:https://www.sentrumkirken.no
X-WR-CALDESC:Arrangement for Sentrumkirken
REFRESH-INTERVAL;VALUE=DURATION:PT1H
X-Robots-Tag:noindex
X-PUBLISHED-TTL:PT1H
BEGIN:VTIMEZONE
TZID:Europe/Oslo
BEGIN:DAYLIGHT
TZOFFSETFROM:+0100
TZOFFSETTO:+0200
TZNAME:CEST
DTSTART:20240331T010000
END:DAYLIGHT
BEGIN:STANDARD
TZOFFSETFROM:+0200
TZOFFSETTO:+0100
TZNAME:CET
DTSTART:20241027T010000
END:STANDARD
END:VTIMEZONE
BEGIN:VEVENT
DTSTART;TZID=Europe/Oslo:20240901T110000
DTEND;TZID=Europe/Oslo:20240901T123000
DTSTAMP:20260425T011352
CREATED:20240825T073252Z
LAST-MODIFIED:20240825T073308Z
UID:5479-1725188400-1725193800@www.sentrumkirken.no
SUMMARY:Kirke i Kulturhuset
DESCRIPTION:
URL:https://www.sentrumkirken.no/aktivitet/kirke-i-kulturhuset-4/
LOCATION:Amfiscenen
CATEGORIES:Gudstjenester,Kalender
END:VEVENT
BEGIN:VEVENT
DTSTART;TZID=Europe/Oslo:20240905T153000
DTEND;TZID=Europe/Oslo:20240905T153000
DTSTAMP:20260425T011352
CREATED:20240825T073446Z
LAST-MODIFIED:20240825T073446Z
UID:5481-1725550200-1725550200@www.sentrumkirken.no
SUMMARY:Oppstart AKU
DESCRIPTION:
URL:https://www.sentrumkirken.no/aktivitet/oppstart-aku/
LOCATION:Cafe Freezone
CATEGORIES:Samlinger
END:VEVENT
BEGIN:VEVENT
DTSTART;TZID=Europe/Oslo:20240908T110000
DTEND;TZID=Europe/Oslo:20240908T123000
DTSTAMP:20260425T011352
CREATED:20240825T073704Z
LAST-MODIFIED:20240825T073704Z
UID:5483-1725793200-1725798600@www.sentrumkirken.no
SUMMARY:Kirke i Kulturhuset
DESCRIPTION:
URL:https://www.sentrumkirken.no/aktivitet/kirke-i-kulturhuset-5/
LOCATION:Amfiscenen
CATEGORIES:Gudstjenester,Kalender
END:VEVENT
BEGIN:VEVENT
DTSTART;TZID=Europe/Oslo:20240909T190000
DTEND;TZID=Europe/Oslo:20240909T190000
DTSTAMP:20260425T011352
CREATED:20240825T073854Z
LAST-MODIFIED:20240825T073943Z
UID:5485-1725908400-1725908400@www.sentrumkirken.no
SUMMARY:Kveldssamling & gruppeprat
DESCRIPTION:
URL:https://www.sentrumkirken.no/aktivitet/kveldssamling-gruppeprat/
LOCATION:Cafe Freezone
CATEGORIES:Kalender,Samlinger
END:VEVENT
BEGIN:VEVENT
DTSTART;TZID=Europe/Oslo:20240915T110000
DTEND;TZID=Europe/Oslo:20240915T190000
DTSTAMP:20260425T011352
CREATED:20240825T074554Z
LAST-MODIFIED:20240825T074654Z
UID:5487-1726398000-1726426800@www.sentrumkirken.no
SUMMARY:KIRKENS DAG I ALLES. Hovedtaler Egil Svartdahl
DESCRIPTION:kl 11:00 Felleskirkelig gudstjeneste med nattverd. \nÅpen kafé gjennom dagen ved Kirkens Bymisjon.\nBarnas lekeland med «tivoli-fest» og minikino.\nMinikonserter av Ringerike Ten-Sing\, Kulturakademiet m.fl. \nkl 17:00 Festgudstjeneste med tverrkirkelig felleskor
URL:https://www.sentrumkirken.no/aktivitet/kirkens-dag-i-alles-hovedtaler-egil-svartdahl-kl-11-17/
LOCATION:Alles Kulturhus\, Hønefoss Bru 3\, Hønfoss\, Norge
CATEGORIES:Arrangementer,Gudstjenester,Kalender
END:VEVENT
BEGIN:VEVENT
DTSTART;TZID=Europe/Oslo:20240921T190000
DTEND;TZID=Europe/Oslo:20240921T190000
DTSTAMP:20260425T011352
CREATED:20240920T072826Z
LAST-MODIFIED:20240920T072857Z
UID:5518-1726945200-1726945200@www.sentrumkirken.no
SUMMARY:AGAPE - ungdomssamling
DESCRIPTION:Besøk av Ny Generasjon
URL:https://www.sentrumkirken.no/aktivitet/agape-ungdomssamling/
LOCATION:Cafe Freezone
CATEGORIES:Kalender,Samlinger
END:VEVENT
BEGIN:VEVENT
DTSTART;TZID=Europe/Oslo:20240922T110000
DTEND;TZID=Europe/Oslo:20240922T123000
DTSTAMP:20260425T011352
CREATED:20240920T073102Z
LAST-MODIFIED:20240920T073125Z
UID:5521-1727002800-1727008200@www.sentrumkirken.no
SUMMARY:Kirke i Kulturhuset
DESCRIPTION:Tale: Jørn Syversen \nKidzone for barna og Tweens \nSang og musikk: Marita B. Djupvik og Jostein Danielsen \nKirkekaffe
URL:https://www.sentrumkirken.no/aktivitet/kirke-i-kulturhuset-6/
LOCATION:Amfiscenen
CATEGORIES:Gudstjenester,Kalender
END:VEVENT
BEGIN:VEVENT
DTSTART;TZID=Europe/Oslo:20240923T190000
DTEND;TZID=Europe/Oslo:20240923T190000
DTSTAMP:20260425T011352
CREATED:20240920T073350Z
LAST-MODIFIED:20240920T073659Z
UID:5523-1727118000-1727118000@www.sentrumkirken.no
SUMMARY:Mandagssamling
DESCRIPTION:
URL:https://www.sentrumkirken.no/aktivitet/hostferie-ingen-samling-denne-sondagen/
LOCATION:Cafe Freezone
CATEGORIES:Kalender,Samlinger
END:VEVENT
BEGIN:VEVENT
DTSTART;VALUE=DATE:20240929
DTEND;VALUE=DATE:20240930
DTSTAMP:20260425T011352
CREATED:20240920T073815Z
LAST-MODIFIED:20240920T073815Z
UID:5527-1727568000-1727654399@www.sentrumkirken.no
SUMMARY:Høstferie - ingen samling denne søndagen
DESCRIPTION:
URL:https://www.sentrumkirken.no/aktivitet/hostferie-ingen-samling-denne-sondagen-2/
END:VEVENT
END:VCALENDAR