BEGIN:VCALENDAR
VERSION:2.0
PRODID:-//Sentrumkirken - ECPv6.8.3//NONSGML v1.0//EN
CALSCALE:GREGORIAN
METHOD:PUBLISH
X-WR-CALNAME:Sentrumkirken
X-ORIGINAL-URL:https://www.sentrumkirken.no
X-WR-CALDESC:Arrangement for Sentrumkirken
REFRESH-INTERVAL;VALUE=DURATION:PT1H
X-Robots-Tag:noindex
X-PUBLISHED-TTL:PT1H
BEGIN:VTIMEZONE
TZID:Europe/Oslo
BEGIN:DAYLIGHT
TZOFFSETFROM:+0100
TZOFFSETTO:+0200
TZNAME:CEST
DTSTART:20240331T010000
END:DAYLIGHT
BEGIN:STANDARD
TZOFFSETFROM:+0200
TZOFFSETTO:+0100
TZNAME:CET
DTSTART:20241027T010000
END:STANDARD
END:VTIMEZONE
BEGIN:VEVENT
DTSTART;TZID=Europe/Oslo:20241103T110000
DTEND;TZID=Europe/Oslo:20241103T123000
DTSTAMP:20260424T212945
CREATED:20241024T183533Z
LAST-MODIFIED:20241024T183723Z
UID:5578-1730631600-1730637000@www.sentrumkirken.no
SUMMARY:Kirke i Kulturhuset. Stian A. Høibråten taler
DESCRIPTION:
URL:https://www.sentrumkirken.no/aktivitet/kirke-i-kulturhuset-stian-a-hoibraten-taler-2/
LOCATION:Amfiscenen
CATEGORIES:Gudstjenester,Kalender
END:VEVENT
BEGIN:VEVENT
DTSTART;TZID=Europe/Oslo:20241110T110000
DTEND;TZID=Europe/Oslo:20241110T123000
DTSTAMP:20260424T212945
CREATED:20241024T183704Z
LAST-MODIFIED:20241024T183704Z
UID:5580-1731236400-1731241800@www.sentrumkirken.no
SUMMARY:Kirke i Kulturhuset. Truls Åkerlund taler
DESCRIPTION:
URL:https://www.sentrumkirken.no/aktivitet/kirke-i-kulturhuset-truls-akerlund-taler/
LOCATION:Amfiscenen
CATEGORIES:Gudstjenester,Kalender
END:VEVENT
END:VCALENDAR