BEGIN:VCALENDAR
VERSION:2.0
PRODID:-//Sentrumkirken - ECPv6.8.3//NONSGML v1.0//EN
CALSCALE:GREGORIAN
METHOD:PUBLISH
X-ORIGINAL-URL:https://www.sentrumkirken.no
X-WR-CALDESC:Arrangement for Sentrumkirken
REFRESH-INTERVAL;VALUE=DURATION:PT1H
X-Robots-Tag:noindex
X-PUBLISHED-TTL:PT1H
BEGIN:VTIMEZONE
TZID:Europe/Oslo
BEGIN:DAYLIGHT
TZOFFSETFROM:+0100
TZOFFSETTO:+0200
TZNAME:CEST
DTSTART:20250330T010000
END:DAYLIGHT
BEGIN:STANDARD
TZOFFSETFROM:+0200
TZOFFSETTO:+0100
TZNAME:CET
DTSTART:20251026T010000
END:STANDARD
END:VTIMEZONE
BEGIN:VEVENT
DTSTART;TZID=Europe/Oslo:20250302T110000
DTEND;TZID=Europe/Oslo:20250302T123000
DTSTAMP:20260424T145433
CREATED:20250224T111944Z
LAST-MODIFIED:20250224T112738Z
UID:5743-1740913200-1740918600@www.sentrumkirken.no
SUMMARY:Kirke i Kulturhuset m/rapport fra vinterleirene
DESCRIPTION:
URL:https://www.sentrumkirken.no/aktivitet/kirke-i-kulturhuset-7/
CATEGORIES:Gudstjenester,Kalender
END:VEVENT
BEGIN:VEVENT
DTSTART;TZID=Europe/Oslo:20250309T110000
DTEND;TZID=Europe/Oslo:20250309T123000
DTSTAMP:20260424T145433
CREATED:20250224T112118Z
LAST-MODIFIED:20250224T112118Z
UID:5745-1741518000-1741523400@www.sentrumkirken.no
SUMMARY:Kirke i Kulturhuset - Besøk av David Hasseløy
DESCRIPTION:
URL:https://www.sentrumkirken.no/aktivitet/kirke-i-kulturhuset-besok-av-david-hasseloy/
CATEGORIES:Gudstjenester,Kalender
END:VEVENT
BEGIN:VEVENT
DTSTART;TZID=Europe/Oslo:20250316T110000
DTEND;TZID=Europe/Oslo:20250316T120000
DTSTAMP:20260424T145433
CREATED:20250224T112302Z
LAST-MODIFIED:20250224T112302Z
UID:5747-1742122800-1742126400@www.sentrumkirken.no
SUMMARY:Supersøndag med Kulturakademiet
DESCRIPTION:
URL:https://www.sentrumkirken.no/aktivitet/supersondag-med-kulturakademiet-2/
CATEGORIES:Arrangementer,Gudstjenester,Kalender
END:VEVENT
BEGIN:VEVENT
DTSTART;TZID=Europe/Oslo:20250323T110000
DTEND;TZID=Europe/Oslo:20250323T140000
DTSTAMP:20260424T145433
CREATED:20250224T112505Z
LAST-MODIFIED:20250312T182410Z
UID:5749-1742727600-1742738400@www.sentrumkirken.no
SUMMARY:Kirke i Kulturhuset - Stian Høibråten taler. Årsmøte i etterkant av gudstjenesten
DESCRIPTION:
URL:https://www.sentrumkirken.no/aktivitet/kirke-i-kulturhuset-arsmote-i-etterkant-av-gudstjenesten/
CATEGORIES:Gudstjenester,Kalender,Samlinger
END:VEVENT
BEGIN:VEVENT
DTSTART;TZID=Europe/Oslo:20250330T110000
DTEND;TZID=Europe/Oslo:20250330T123000
DTSTAMP:20260424T145433
CREATED:20250224T112640Z
LAST-MODIFIED:20250224T112640Z
UID:5751-1743332400-1743337800@www.sentrumkirken.no
SUMMARY:Kirke i Kulturhuset - Besøk av Pål Asle Djupvik
DESCRIPTION:
URL:https://www.sentrumkirken.no/aktivitet/kirke-i-kulturhuset-besok-av-pal-asle-djupvik/
CATEGORIES:Gudstjenester,Kalender
END:VEVENT
END:VCALENDAR