BEGIN:VCALENDAR
VERSION:2.0
PRODID:-//Sentrumkirken - ECPv6.8.3//NONSGML v1.0//EN
CALSCALE:GREGORIAN
METHOD:PUBLISH
X-ORIGINAL-URL:https://www.sentrumkirken.no
X-WR-CALDESC:Arrangement for Sentrumkirken
REFRESH-INTERVAL;VALUE=DURATION:PT1H
X-Robots-Tag:noindex
X-PUBLISHED-TTL:PT1H
BEGIN:VTIMEZONE
TZID:Europe/Oslo
BEGIN:DAYLIGHT
TZOFFSETFROM:+0100
TZOFFSETTO:+0200
TZNAME:CEST
DTSTART:20250330T010000
END:DAYLIGHT
BEGIN:STANDARD
TZOFFSETFROM:+0200
TZOFFSETTO:+0100
TZNAME:CET
DTSTART:20251026T010000
END:STANDARD
END:VTIMEZONE
BEGIN:VEVENT
DTSTART;TZID=Europe/Oslo:20250406T110000
DTEND;TZID=Europe/Oslo:20250406T123000
DTSTAMP:20260424T133037
CREATED:20250228T085244Z
LAST-MODIFIED:20250228T085244Z
UID:5758-1743937200-1743942600@www.sentrumkirken.no
SUMMARY:Kirke i Kulturhuset – Besøk av Christian Andersen
DESCRIPTION:
URL:https://www.sentrumkirken.no/aktivitet/kirke-i-kulturhuset-besok-av-christian-andersen/
LOCATION:Amfiscenen
CATEGORIES:Gudstjenester,Kalender
END:VEVENT
BEGIN:VEVENT
DTSTART;TZID=Europe/Oslo:20250406T180000
DTEND;TZID=Europe/Oslo:20250406T180000
DTSTAMP:20260424T133037
CREATED:20250321T103135Z
LAST-MODIFIED:20250321T103702Z
UID:5790-1743962400-1743962400@www.sentrumkirken.no
SUMMARY:Hønefoss kino kl 1800 – visning av den nye filmen om Hans Nielsen Hauge
DESCRIPTION:Felleskirkelig arrangement. Innledning ved Alv Magnus. Billettpris: kr 100\,-
URL:https://www.sentrumkirken.no/aktivitet/honefoss-kino-visning-av-den-nye-filmen-om-hans-nielsen-hauge/
LOCATION:Hønefoss kino
CATEGORIES:Arrangementer,Kalender
END:VEVENT
BEGIN:VEVENT
DTSTART;VALUE=DATE:20250413
DTEND;VALUE=DATE:20250414
DTSTAMP:20260424T133037
CREATED:20250312T182609Z
LAST-MODIFIED:20250312T182609Z
UID:5779-1744502400-1744588799@www.sentrumkirken.no
SUMMARY:Palmesøndag - påskeferie
DESCRIPTION:
URL:https://www.sentrumkirken.no/aktivitet/palmesondag-paskeferie/
CATEGORIES:Gudstjenester,Kalender
END:VEVENT
BEGIN:VEVENT
DTSTART;TZID=Europe/Oslo:20250417T190000
DTEND;TZID=Europe/Oslo:20250417T210000
DTSTAMP:20260424T133037
CREATED:20250312T183028Z
LAST-MODIFIED:20250312T183028Z
UID:5781-1744916400-1744923600@www.sentrumkirken.no
SUMMARY:Skjærtorsdag - felleskirkelig kveldsgudstjeneste i Hønefoss kirke
DESCRIPTION:
URL:https://www.sentrumkirken.no/aktivitet/skjaertorsdag-felleskirkelig-kveldsgudstjeneste-i-honefoss-kirke/
CATEGORIES:Gudstjenester,Kalender
END:VEVENT
BEGIN:VEVENT
DTSTART;TZID=Europe/Oslo:20250421T110000
DTEND;TZID=Europe/Oslo:20250421T123000
DTSTAMP:20260424T133037
CREATED:20250312T183152Z
LAST-MODIFIED:20250312T183152Z
UID:5783-1745233200-1745238600@www.sentrumkirken.no
SUMMARY:2. påskedag - gudstjeneste med nattverd
DESCRIPTION:
URL:https://www.sentrumkirken.no/aktivitet/2-paskedag-gudstjeneste-med-nattverd/
CATEGORIES:Gudstjenester,Kalender
END:VEVENT
BEGIN:VEVENT
DTSTART;TZID=Europe/Oslo:20250427T110000
DTEND;TZID=Europe/Oslo:20250427T123000
DTSTAMP:20260424T133037
CREATED:20250321T103552Z
LAST-MODIFIED:20250424T092616Z
UID:5793-1745751600-1745757000@www.sentrumkirken.no
SUMMARY:Gudstjeneste i Bassgarasjen\, pga UKM arrangement i Amfiscenen
DESCRIPTION:
URL:https://www.sentrumkirken.no/aktivitet/gudstjeneste-i-bassgarasjen-pga-ukm-arrangement-i-amfiscenen/
LOCATION:Bassgarasjen
CATEGORIES:Gudstjenester,Kalender
END:VEVENT
END:VCALENDAR