BEGIN:VCALENDAR
VERSION:2.0
PRODID:-//Sentrumkirken - ECPv6.8.3//NONSGML v1.0//EN
CALSCALE:GREGORIAN
METHOD:PUBLISH
X-WR-CALNAME:Sentrumkirken
X-ORIGINAL-URL:https://www.sentrumkirken.no
X-WR-CALDESC:Arrangement for Sentrumkirken
REFRESH-INTERVAL;VALUE=DURATION:PT1H
X-Robots-Tag:noindex
X-PUBLISHED-TTL:PT1H
BEGIN:VTIMEZONE
TZID:Europe/Oslo
BEGIN:DAYLIGHT
TZOFFSETFROM:+0100
TZOFFSETTO:+0200
TZNAME:CEST
DTSTART:20250330T010000
END:DAYLIGHT
BEGIN:STANDARD
TZOFFSETFROM:+0200
TZOFFSETTO:+0100
TZNAME:CET
DTSTART:20251026T010000
END:STANDARD
END:VTIMEZONE
BEGIN:VEVENT
DTSTART;TZID=Europe/Oslo:20250504T110000
DTEND;TZID=Europe/Oslo:20250504T120000
DTSTAMP:20260424T120139
CREATED:20250424T092127Z
LAST-MODIFIED:20250427T193226Z
UID:5853-1746356400-1746360000@www.sentrumkirken.no
SUMMARY:Konfirmasjon
DESCRIPTION:
URL:https://www.sentrumkirken.no/aktivitet/konfirmasjon-3/
LOCATION:Amfiscenen
CATEGORIES:Arrangementer,Gudstjenester,Kalender
END:VEVENT
BEGIN:VEVENT
DTSTART;TZID=Europe/Oslo:20250511T160000
DTEND;TZID=Europe/Oslo:20250511T170000
DTSTAMP:20260424T120139
CREATED:20250424T092726Z
LAST-MODIFIED:20250424T092726Z
UID:5858-1746979200-1746982800@www.sentrumkirken.no
SUMMARY:Kulturakademiets vårforestilling
DESCRIPTION:
URL:https://www.sentrumkirken.no/aktivitet/kulturakademiets-varforestilling/
LOCATION:Amfiscenen
CATEGORIES:Arrangementer,Kalender
END:VEVENT
BEGIN:VEVENT
DTSTART;TZID=Europe/Oslo:20250512T190000
DTEND;TZID=Europe/Oslo:20250512T190000
DTSTAMP:20260424T120139
CREATED:20250427T191845Z
LAST-MODIFIED:20250427T191845Z
UID:5867-1747076400-1747076400@www.sentrumkirken.no
SUMMARY:Mandagssamling. Matteus evangeliet – del 1
DESCRIPTION:
URL:https://www.sentrumkirken.no/aktivitet/mandagssamling-matteus-evangeliet-del-1/
LOCATION:Cafe Freezone
CATEGORIES:Kalender,Samlinger
END:VEVENT
BEGIN:VEVENT
DTSTART;TZID=Europe/Oslo:20250517T160000
DTEND;TZID=Europe/Oslo:20250517T160000
DTSTAMP:20260424T120139
CREATED:20250427T192128Z
LAST-MODIFIED:20250427T192258Z
UID:5869-1747497600-1747497600@www.sentrumkirken.no
SUMMARY:Hagefest med grilling.
DESCRIPTION:
URL:https://www.sentrumkirken.no/aktivitet/hagefest-med-grilling/
LOCATION:Svenåveien 47\, Svenåveien 47\, Jevnaker\, Norge
CATEGORIES:Arrangementer,Kalender
END:VEVENT
BEGIN:VEVENT
DTSTART;TZID=Europe/Oslo:20250518T110000
DTEND;TZID=Europe/Oslo:20250518T130000
DTSTAMP:20260424T120139
CREATED:20250427T192510Z
LAST-MODIFIED:20250427T192510Z
UID:5871-1747566000-1747573200@www.sentrumkirken.no
SUMMARY:Dialogsamling. Felles lunsj i etterkant
DESCRIPTION:
URL:https://www.sentrumkirken.no/aktivitet/dialogsamling-felles-lunsj-i-etterkant/
LOCATION:Amfiscenen
CATEGORIES:Kalender,Samlinger
END:VEVENT
BEGIN:VEVENT
DTSTART;TZID=Europe/Oslo:20250519T190000
DTEND;TZID=Europe/Oslo:20250519T190000
DTSTAMP:20260424T120139
CREATED:20250427T192714Z
LAST-MODIFIED:20250427T192714Z
UID:5873-1747681200-1747681200@www.sentrumkirken.no
SUMMARY:Mandagssamling. Matteus evangeliet – del 2
DESCRIPTION:
URL:https://www.sentrumkirken.no/aktivitet/mandagssamling-matteus-evangeliet-del-2/
LOCATION:Cafe Freezone
CATEGORIES:Kalender,Samlinger
END:VEVENT
BEGIN:VEVENT
DTSTART;TZID=Europe/Oslo:20250525T110000
DTEND;TZID=Europe/Oslo:20250525T123000
DTSTAMP:20260424T120139
CREATED:20250427T192838Z
LAST-MODIFIED:20250427T192838Z
UID:5875-1748170800-1748176200@www.sentrumkirken.no
SUMMARY:Kirke i Kulturhuset. Ivan Daniloff taler
DESCRIPTION:
URL:https://www.sentrumkirken.no/aktivitet/kirke-i-kulturhuset-ivan-daniloff-taler-2/
LOCATION:Amfiscenen
CATEGORIES:Gudstjenester,Kalender
END:VEVENT
BEGIN:VEVENT
DTSTART;TZID=Europe/Oslo:20250527T190000
DTEND;TZID=Europe/Oslo:20250527T210000
DTSTAMP:20260424T120139
CREATED:20250514T081735Z
LAST-MODIFIED:20250514T081748Z
UID:5912-1748372400-1748379600@www.sentrumkirken.no
SUMMARY:Dialogsamling for foreldre til ungdom og tweens.
DESCRIPTION:
URL:https://www.sentrumkirken.no/aktivitet/dialogsamling-for-foreldre-til-ungdom-og-tweens-cafe-freezone-kl-19-21/
LOCATION:Cafe Freezone
CATEGORIES:Kalender,Samlinger
END:VEVENT
END:VCALENDAR