BEGIN:VCALENDAR
VERSION:2.0
PRODID:-//Sentrumkirken - ECPv6.8.3//NONSGML v1.0//EN
CALSCALE:GREGORIAN
METHOD:PUBLISH
X-ORIGINAL-URL:https://www.sentrumkirken.no
X-WR-CALDESC:Arrangement for Sentrumkirken
REFRESH-INTERVAL;VALUE=DURATION:PT1H
X-Robots-Tag:noindex
X-PUBLISHED-TTL:PT1H
BEGIN:VTIMEZONE
TZID:Europe/Oslo
BEGIN:DAYLIGHT
TZOFFSETFROM:+0100
TZOFFSETTO:+0200
TZNAME:CEST
DTSTART:20250330T010000
END:DAYLIGHT
BEGIN:STANDARD
TZOFFSETFROM:+0200
TZOFFSETTO:+0100
TZNAME:CET
DTSTART:20251026T010000
END:STANDARD
END:VTIMEZONE
BEGIN:VEVENT
DTSTART;TZID=Europe/Oslo:20250902T170000
DTEND;TZID=Europe/Oslo:20250902T193000
DTSTAMP:20260424T063451
CREATED:20250829T122308Z
LAST-MODIFIED:20250829T123625Z
UID:6057-1756832400-1756841400@www.sentrumkirken.no
SUMMARY:Kulturakademiet - med foreldrekafé
DESCRIPTION:
URL:https://www.sentrumkirken.no/aktivitet/kulturakademiet-tirsdager-med-foreldrekafe/
LOCATION:Amfiscenen
CATEGORIES:Kalender,Øvelser
END:VEVENT
BEGIN:VEVENT
DTSTART;TZID=Europe/Oslo:20250904T153000
DTEND;TZID=Europe/Oslo:20250904T153000
DTSTAMP:20260424T063451
CREATED:20250812T131313Z
LAST-MODIFIED:20250812T131313Z
UID:6031-1756999800-1756999800@www.sentrumkirken.no
SUMMARY:AKU – oppstart for konfirmantene
DESCRIPTION:
URL:https://www.sentrumkirken.no/aktivitet/aku-oppstart-for-konfirmantene/
LOCATION:Cafe Freezone
CATEGORIES:Kalender,Samlinger
END:VEVENT
BEGIN:VEVENT
DTSTART;TZID=Europe/Oslo:20250906T080000
DTEND;TZID=Europe/Oslo:20250906T170000
DTSTAMP:20260424T063451
CREATED:20250812T131444Z
LAST-MODIFIED:20250812T131444Z
UID:6033-1757145600-1757178000@www.sentrumkirken.no
SUMMARY:Agape ungdomssamling
DESCRIPTION:Besøk av Sigurd Stakkeland\, Ny Generasjon.
URL:https://www.sentrumkirken.no/aktivitet/agape-ungdomssamling-2/
LOCATION:Cafe Freezone
CATEGORIES:Kalender,Samlinger
END:VEVENT
BEGIN:VEVENT
DTSTART;TZID=Europe/Oslo:20250907T110000
DTEND;TZID=Europe/Oslo:20250907T123000
DTSTAMP:20260424T063451
CREATED:20250812T095022Z
LAST-MODIFIED:20250904T091856Z
UID:6025-1757242800-1757248200@www.sentrumkirken.no
SUMMARY:Kirke i Kulturhuset - Besøk av Terje Hegertun.
DESCRIPTION:
URL:https://www.sentrumkirken.no/aktivitet/kirke-i-kulturhuset-9/
CATEGORIES:Gudstjenester,Kalender
END:VEVENT
BEGIN:VEVENT
DTSTART;TZID=Europe/Oslo:20250909T170000
DTEND;TZID=Europe/Oslo:20250909T170000
DTSTAMP:20260424T063451
CREATED:20250829T123342Z
LAST-MODIFIED:20250829T123539Z
UID:6064-1757437200-1757437200@www.sentrumkirken.no
SUMMARY:Kulturakademiet – med foreldrekafé
DESCRIPTION:
URL:https://www.sentrumkirken.no/aktivitet/kulturakademiet-med-foreldrekafe/
LOCATION:Amfiscenen
CATEGORIES:Kalender,Øvelser
END:VEVENT
BEGIN:VEVENT
DTSTART;TZID=Europe/Oslo:20250914T110000
DTEND;TZID=Europe/Oslo:20250914T123000
DTSTAMP:20260424T063451
CREATED:20250812T095148Z
LAST-MODIFIED:20250904T091703Z
UID:6027-1757847600-1757853000@www.sentrumkirken.no
SUMMARY:Kirke i Kulturhuset - Besøk av Åse Breen & Tribute.
DESCRIPTION:
URL:https://www.sentrumkirken.no/aktivitet/kirke-i-kulturhuset-10/
CATEGORIES:Gudstjenester,Kalender
END:VEVENT
BEGIN:VEVENT
DTSTART;TZID=Europe/Oslo:20250915T190000
DTEND;TZID=Europe/Oslo:20250915T210000
DTSTAMP:20260424T063451
CREATED:20250829T122553Z
LAST-MODIFIED:20250918T122615Z
UID:6060-1757962800-1757970000@www.sentrumkirken.no
SUMMARY:Åpen medarbeidersamling.
DESCRIPTION:
URL:https://www.sentrumkirken.no/aktivitet/apen-medarbeidersamling/
LOCATION:Cafe Freezone
CATEGORIES:Kalender,Samlinger
END:VEVENT
BEGIN:VEVENT
DTSTART;TZID=Europe/Oslo:20250916T170000
DTEND;TZID=Europe/Oslo:20250916T170000
DTSTAMP:20260424T063451
CREATED:20250829T123428Z
LAST-MODIFIED:20250829T123428Z
UID:6066-1758042000-1758042000@www.sentrumkirken.no
SUMMARY:Kulturakademiet – med foreldrekafé
DESCRIPTION:
URL:https://www.sentrumkirken.no/aktivitet/kulturakademiet-med-foreldrekafe-2/
LOCATION:Amfiscenen
CATEGORIES:Kalender,Øvelser
END:VEVENT
BEGIN:VEVENT
DTSTART;TZID=Europe/Oslo:20250921T110000
DTEND;TZID=Europe/Oslo:20250921T123000
DTSTAMP:20260424T063451
CREATED:20250812T095309Z
LAST-MODIFIED:20250911T200312Z
UID:6029-1758452400-1758457800@www.sentrumkirken.no
SUMMARY:Kirke i Kulturhuset - Familiegudstjeneste. Besøk av Rebecca Waldemar. Sang av Kulturakademiet
DESCRIPTION:Familiegudstjeneste. Besøk av Rebecca Waldemar.
URL:https://www.sentrumkirken.no/aktivitet/kirke-i-kulturhuset-11/
CATEGORIES:Gudstjenester,Kalender
END:VEVENT
BEGIN:VEVENT
DTSTART;TZID=Europe/Oslo:20250923T170000
DTEND;TZID=Europe/Oslo:20250923T193000
DTSTAMP:20260424T063451
CREATED:20250829T123511Z
LAST-MODIFIED:20250829T123511Z
UID:6068-1758646800-1758655800@www.sentrumkirken.no
SUMMARY:Kulturakademiet – med foreldrekafé
DESCRIPTION:
URL:https://www.sentrumkirken.no/aktivitet/kulturakademiet-med-foreldrekafe-3/
LOCATION:Amfiscenen
CATEGORIES:Kalender,Øvelser
END:VEVENT
BEGIN:VEVENT
DTSTART;TZID=Europe/Oslo:20250924T180000
DTEND;TZID=Europe/Oslo:20250924T180000
DTSTAMP:20260424T063451
CREATED:20250911T195555Z
LAST-MODIFIED:20250911T195555Z
UID:6107-1758736800-1758736800@www.sentrumkirken.no
SUMMARY:Trond Buanes taler på temakveld i Frelsesarméen kl 18.
DESCRIPTION:
URL:https://www.sentrumkirken.no/aktivitet/trond-buanes-taler-pa-temakveld-i-frelsesarmeen-kl-18/
CATEGORIES:Arrangementer,Kalender
END:VEVENT
BEGIN:VEVENT
DTSTART;TZID=Europe/Oslo:20250925T153000
DTEND;TZID=Europe/Oslo:20250925T153000
DTSTAMP:20260424T063451
CREATED:20250911T195919Z
LAST-MODIFIED:20250911T195919Z
UID:6110-1758814200-1758814200@www.sentrumkirken.no
SUMMARY:AKU-samling for konfirmantene
DESCRIPTION:
URL:https://www.sentrumkirken.no/aktivitet/aku-samling-for-konfirmantene/
LOCATION:Cafe Freezone
CATEGORIES:Kalender,Samlinger
END:VEVENT
BEGIN:VEVENT
DTSTART;TZID=Europe/Oslo:20250928T000000
DTEND;TZID=Europe/Oslo:20250928T000000
DTSTAMP:20260424T063451
CREATED:20250829T123023Z
LAST-MODIFIED:20250829T123135Z
UID:6062-1759017600-1759017600@www.sentrumkirken.no
SUMMARY:Høstferie
DESCRIPTION:Høstferie uke 40
URL:https://www.sentrumkirken.no/aktivitet/hostferie-2/
CATEGORIES:Kalender,Samlinger
END:VEVENT
END:VCALENDAR