BEGIN:VCALENDAR
VERSION:2.0
PRODID:-//Sentrumkirken - ECPv6.8.3//NONSGML v1.0//EN
CALSCALE:GREGORIAN
METHOD:PUBLISH
X-WR-CALNAME:Sentrumkirken
X-ORIGINAL-URL:https://www.sentrumkirken.no
X-WR-CALDESC:Arrangement for Sentrumkirken
REFRESH-INTERVAL;VALUE=DURATION:PT1H
X-Robots-Tag:noindex
X-PUBLISHED-TTL:PT1H
BEGIN:VTIMEZONE
TZID:Europe/Oslo
BEGIN:DAYLIGHT
TZOFFSETFROM:+0100
TZOFFSETTO:+0200
TZNAME:CEST
DTSTART:20260329T010000
END:DAYLIGHT
BEGIN:STANDARD
TZOFFSETFROM:+0200
TZOFFSETTO:+0100
TZNAME:CET
DTSTART:20261025T010000
END:STANDARD
END:VTIMEZONE
BEGIN:VEVENT
DTSTART;TZID=Europe/Oslo:20260104T110000
DTEND;TZID=Europe/Oslo:20260104T123000
DTSTAMP:20260423T205901
CREATED:20251230T095414Z
LAST-MODIFIED:20251230T095414Z
UID:6307-1767524400-1767529800@www.sentrumkirken.no
SUMMARY:Kirke i Kulturhuset. Tale: Stian A. Høibråten
DESCRIPTION:
URL:https://www.sentrumkirken.no/aktivitet/kirke-i-kulturhuset-tale-stian-a-hoibraten-2/
LOCATION:Amfiscenen
CATEGORIES:Gudstjenester,Kalender
END:VEVENT
BEGIN:VEVENT
DTSTART;TZID=Europe/Oslo:20260106T180000
DTEND;TZID=Europe/Oslo:20260106T203000
DTSTAMP:20260423T205901
CREATED:20251230T095610Z
LAST-MODIFIED:20251230T100126Z
UID:6309-1767722400-1767731400@www.sentrumkirken.no
SUMMARY:Åpen medarbeidersamling – med middag
DESCRIPTION:
URL:https://www.sentrumkirken.no/aktivitet/apen-medarbeidersamling-med-middag/
LOCATION:Cafe Freezone
CATEGORIES:Kalender,Samlinger
END:VEVENT
BEGIN:VEVENT
DTSTART;TZID=Europe/Oslo:20260107T153000
DTEND;TZID=Europe/Oslo:20260107T153000
DTSTAMP:20260423T205901
CREATED:20260101T093058Z
LAST-MODIFIED:20260101T093058Z
UID:6324-1767799800-1767799800@www.sentrumkirken.no
SUMMARY:AKU-samling for konfirmantene
DESCRIPTION:
URL:https://www.sentrumkirken.no/aktivitet/aku-samling-for-konfirmantene-5/
LOCATION:Cafe Freezone
CATEGORIES:Kalender,Samlinger
END:VEVENT
BEGIN:VEVENT
DTSTART;TZID=Europe/Oslo:20260111T110000
DTEND;TZID=Europe/Oslo:20260111T123000
DTSTAMP:20260423T205902
CREATED:20251230T095724Z
LAST-MODIFIED:20260101T093140Z
UID:6311-1768129200-1768134600@www.sentrumkirken.no
SUMMARY:Kirke i Kulturhuset. Tale: Stian A. Høibråten
DESCRIPTION:
URL:https://www.sentrumkirken.no/aktivitet/kirke-i-kulturhuset-12/
LOCATION:Amfiscenen
CATEGORIES:Gudstjenester,Kalender
END:VEVENT
BEGIN:VEVENT
DTSTART;TZID=Europe/Oslo:20260112T190000
DTEND;TZID=Europe/Oslo:20260112T210000
DTSTAMP:20260423T205902
CREATED:20251230T095829Z
LAST-MODIFIED:20260101T095207Z
UID:6313-1768244400-1768251600@www.sentrumkirken.no
SUMMARY:Gruppesamling i Café Freezone
DESCRIPTION:
URL:https://www.sentrumkirken.no/aktivitet/gruppesamling-i-cafe-freezone/
LOCATION:Cafe Freezone
CATEGORIES:Kalender,Samlinger
END:VEVENT
BEGIN:VEVENT
DTSTART;TZID=Europe/Oslo:20260113T170000
DTEND;TZID=Europe/Oslo:20260113T203000
DTSTAMP:20260423T205902
CREATED:20251230T095941Z
LAST-MODIFIED:20251230T095941Z
UID:6315-1768323600-1768336200@www.sentrumkirken.no
SUMMARY:Kulturakademiet – semesterstart
DESCRIPTION:
URL:https://www.sentrumkirken.no/aktivitet/kulturakademiet-semesterstart-2/
LOCATION:Amfiscenen
CATEGORIES:Kalender,Øvelser
END:VEVENT
BEGIN:VEVENT
DTSTART;TZID=Europe/Oslo:20260118T110000
DTEND;TZID=Europe/Oslo:20260118T123000
DTSTAMP:20260423T205902
CREATED:20260109T074144Z
LAST-MODIFIED:20260109T074144Z
UID:6345-1768734000-1768739400@www.sentrumkirken.no
SUMMARY:Kirke i Kulturhuset
DESCRIPTION:
URL:https://www.sentrumkirken.no/aktivitet/kirke-i-kulturhuset-13/
LOCATION:Amfiscenen
CATEGORIES:Gudstjenester,Kalender
END:VEVENT
BEGIN:VEVENT
DTSTART;TZID=Europe/Oslo:20260120T120000
DTEND;TZID=Europe/Oslo:20260120T120000
DTSTAMP:20260423T205902
CREATED:20260116T093811Z
LAST-MODIFIED:20260116T093811Z
UID:6363-1768910400-1768910400@www.sentrumkirken.no
SUMMARY:Frivillighetslunsj i Café Freezone.
DESCRIPTION:
URL:https://www.sentrumkirken.no/aktivitet/frivillighetslunsj-i-cafe-freezone/
LOCATION:Cafe Freezone
CATEGORIES:Kalender,Samlinger
END:VEVENT
BEGIN:VEVENT
DTSTART;TZID=Europe/Oslo:20260120T170000
DTEND;TZID=Europe/Oslo:20260120T193000
DTSTAMP:20260423T205902
CREATED:20260116T094006Z
LAST-MODIFIED:20260116T094031Z
UID:6365-1768928400-1768937400@www.sentrumkirken.no
SUMMARY:Kulturakademiet
DESCRIPTION:
URL:https://www.sentrumkirken.no/aktivitet/kulturakademiet-tirsdag-kl-17-1930/
LOCATION:Amfiscenen
CATEGORIES:Kalender,Øvelser
END:VEVENT
BEGIN:VEVENT
DTSTART;TZID=Europe/Oslo:20260122T153000
DTEND;TZID=Europe/Oslo:20260122T153000
DTSTAMP:20260423T205902
CREATED:20260109T074650Z
LAST-MODIFIED:20260109T074650Z
UID:6347-1769095800-1769095800@www.sentrumkirken.no
SUMMARY:AKU – samling for konfirmantene
DESCRIPTION:
URL:https://www.sentrumkirken.no/aktivitet/aku-samling-for-konfirmantene-6/
LOCATION:Cafe Freezone
CATEGORIES:Kalender,Samlinger
END:VEVENT
BEGIN:VEVENT
DTSTART;TZID=Europe/Oslo:20260124T000000
DTEND;TZID=Europe/Oslo:20260124T000000
DTSTAMP:20260423T205902
CREATED:20260109T074818Z
LAST-MODIFIED:20260109T074818Z
UID:6349-1769212800-1769212800@www.sentrumkirken.no
SUMMARY:Agape – ungdomssamling
DESCRIPTION:
URL:https://www.sentrumkirken.no/aktivitet/agape-ungdomssamling-3/
CATEGORIES:Kalender,Samlinger
END:VEVENT
BEGIN:VEVENT
DTSTART;TZID=Europe/Oslo:20260125T110000
DTEND;TZID=Europe/Oslo:20260125T123000
DTSTAMP:20260423T205902
CREATED:20260116T094215Z
LAST-MODIFIED:20260116T094215Z
UID:6368-1769338800-1769344200@www.sentrumkirken.no
SUMMARY:Kirke i Kulturhuset - Jørn Syversen taler
DESCRIPTION:
URL:https://www.sentrumkirken.no/aktivitet/kirke-i-kulturhuset-jorn-syversen-taler/
LOCATION:Amfiscenen
CATEGORIES:Gudstjenester,Kalender
END:VEVENT
BEGIN:VEVENT
DTSTART;TZID=Europe/Oslo:20260126T190000
DTEND;TZID=Europe/Oslo:20260126T210000
DTSTAMP:20260423T205902
CREATED:20260116T094327Z
LAST-MODIFIED:20260116T094408Z
UID:6370-1769454000-1769461200@www.sentrumkirken.no
SUMMARY:Gruppesamling i Café Freezone
DESCRIPTION:
URL:https://www.sentrumkirken.no/aktivitet/26-01-gruppesamling-i-cafe-freezone-kl-19-21/
LOCATION:Cafe Freezone
CATEGORIES:Kalender,Samlinger
END:VEVENT
BEGIN:VEVENT
DTSTART;TZID=Europe/Oslo:20260127T170000
DTEND;TZID=Europe/Oslo:20260127T170000
DTSTAMP:20260423T205902
CREATED:20260123T080533Z
LAST-MODIFIED:20260123T080533Z
UID:6378-1769533200-1769533200@www.sentrumkirken.no
SUMMARY:Kulturakademiet
DESCRIPTION:
URL:https://www.sentrumkirken.no/aktivitet/kulturakademiet-24/
LOCATION:Amfiscenen
CATEGORIES:Kalender,Øvelser
END:VEVENT
BEGIN:VEVENT
DTSTART;VALUE=DATE:20260131
DTEND;VALUE=DATE:20260201
DTSTAMP:20260423T205902
CREATED:20260101T093348Z
LAST-MODIFIED:20260101T093855Z
UID:6327-1769817600-1769903999@www.sentrumkirken.no
SUMMARY:Joytime – 12 timers festival
DESCRIPTION:
URL:https://www.sentrumkirken.no/aktivitet/joytime-12-timers-festival/
CATEGORIES:Arrangementer,Kalender
END:VEVENT
END:VCALENDAR