BEGIN:VCALENDAR
VERSION:2.0
PRODID:-//Sentrumkirken - ECPv6.8.3//NONSGML v1.0//EN
CALSCALE:GREGORIAN
METHOD:PUBLISH
X-ORIGINAL-URL:https://www.sentrumkirken.no
X-WR-CALDESC:Arrangement for Sentrumkirken
REFRESH-INTERVAL;VALUE=DURATION:PT1H
X-Robots-Tag:noindex
X-PUBLISHED-TTL:PT1H
BEGIN:VTIMEZONE
TZID:Europe/Oslo
BEGIN:DAYLIGHT
TZOFFSETFROM:+0100
TZOFFSETTO:+0200
TZNAME:CEST
DTSTART:20260329T010000
END:DAYLIGHT
BEGIN:STANDARD
TZOFFSETFROM:+0200
TZOFFSETTO:+0100
TZNAME:CET
DTSTART:20261025T010000
END:STANDARD
END:VTIMEZONE
BEGIN:VEVENT
DTSTART;TZID=Europe/Oslo:20260201T110000
DTEND;TZID=Europe/Oslo:20260201T123000
DTSTAMP:20260423T173924
CREATED:20260130T092151Z
LAST-MODIFIED:20260130T092151Z
UID:6409-1769943600-1769949000@www.sentrumkirken.no
SUMMARY:Kirke i Kulturhuset
DESCRIPTION:
URL:https://www.sentrumkirken.no/aktivitet/kirke-i-kulturhuset-16/
LOCATION:Amfiscenen
CATEGORIES:Gudstjenester,Kalender
END:VEVENT
BEGIN:VEVENT
DTSTART;TZID=Europe/Oslo:20260203T120000
DTEND;TZID=Europe/Oslo:20260203T120000
DTSTAMP:20260423T173924
CREATED:20260130T090110Z
LAST-MODIFIED:20260130T090110Z
UID:6392-1770120000-1770120000@www.sentrumkirken.no
SUMMARY:Frivillighetslunsj
DESCRIPTION:
URL:https://www.sentrumkirken.no/aktivitet/frivillighetslunsj/
LOCATION:Cafe Freezone
CATEGORIES:Kalender,Samlinger
END:VEVENT
BEGIN:VEVENT
DTSTART;TZID=Europe/Oslo:20260203T170000
DTEND;TZID=Europe/Oslo:20260203T193000
DTSTAMP:20260423T173924
CREATED:20260130T090403Z
LAST-MODIFIED:20260130T090422Z
UID:6394-1770138000-1770147000@www.sentrumkirken.no
SUMMARY:Kulturakademiet
DESCRIPTION:
URL:https://www.sentrumkirken.no/aktivitet/kulturakademiet-tirsdag-kl-17-1930-2/
LOCATION:Amfiscenen
CATEGORIES:Kalender,Øvelser
END:VEVENT
BEGIN:VEVENT
DTSTART;TZID=Europe/Oslo:20260205T153000
DTEND;TZID=Europe/Oslo:20260205T153000
DTSTAMP:20260423T173924
CREATED:20260130T090535Z
LAST-MODIFIED:20260130T090535Z
UID:6397-1770305400-1770305400@www.sentrumkirken.no
SUMMARY:AKU – samling for konfirmantene
DESCRIPTION:
URL:https://www.sentrumkirken.no/aktivitet/aku-samling-for-konfirmantene-7/
LOCATION:Cafe Freezone
CATEGORIES:Kalender,Samlinger
END:VEVENT
BEGIN:VEVENT
DTSTART;TZID=Europe/Oslo:20260208T110000
DTEND;TZID=Europe/Oslo:20260208T123000
DTSTAMP:20260423T173924
CREATED:20260130T090742Z
LAST-MODIFIED:20260130T090742Z
UID:6399-1770548400-1770553800@www.sentrumkirken.no
SUMMARY:Kirke i Kulturhuset
DESCRIPTION:
URL:https://www.sentrumkirken.no/aktivitet/kirke-i-kulturhuset-14/
LOCATION:Amfiscenen
CATEGORIES:Gudstjenester,Kalender
END:VEVENT
BEGIN:VEVENT
DTSTART;TZID=Europe/Oslo:20260209T190000
DTEND;TZID=Europe/Oslo:20260209T210000
DTSTAMP:20260423T173924
CREATED:20260130T091500Z
LAST-MODIFIED:20260130T092300Z
UID:6401-1770663600-1770670800@www.sentrumkirken.no
SUMMARY:Gruppesamling
DESCRIPTION:
URL:https://www.sentrumkirken.no/aktivitet/gruppesamling/
LOCATION:Cafe Freezone
CATEGORIES:Kalender,Samlinger
END:VEVENT
BEGIN:VEVENT
DTSTART;TZID=Europe/Oslo:20260210T120000
DTEND;TZID=Europe/Oslo:20260210T120000
DTSTAMP:20260423T173924
CREATED:20260206T165950Z
LAST-MODIFIED:20260206T170139Z
UID:6425-1770724800-1770724800@www.sentrumkirken.no
SUMMARY:Frivillighetslunsj
DESCRIPTION:
URL:https://www.sentrumkirken.no/aktivitet/frivillighetslunsj-2/
LOCATION:Cafe Freezone
CATEGORIES:Kalender,Samlinger
END:VEVENT
BEGIN:VEVENT
DTSTART;TZID=Europe/Oslo:20260210T170000
DTEND;TZID=Europe/Oslo:20260210T170000
DTSTAMP:20260423T173924
CREATED:20260206T170052Z
LAST-MODIFIED:20260206T170052Z
UID:6427-1770742800-1770742800@www.sentrumkirken.no
SUMMARY:Kulturakademiet
DESCRIPTION:
URL:https://www.sentrumkirken.no/aktivitet/kulturakademiet-25/
LOCATION:Amfiscenen
CATEGORIES:Kalender,Øvelser
END:VEVENT
BEGIN:VEVENT
DTSTART;TZID=Europe/Oslo:20260215T110000
DTEND;TZID=Europe/Oslo:20260215T110000
DTSTAMP:20260423T173924
CREATED:20260130T091728Z
LAST-MODIFIED:20260206T165258Z
UID:6403-1771153200-1771153200@www.sentrumkirken.no
SUMMARY:Kirke i Kulturhuset - Tale: Mina Sofie Grøtterud Pedersen
DESCRIPTION:
URL:https://www.sentrumkirken.no/aktivitet/kirke-i-kulturhuset-15/
LOCATION:Amfiscenen
CATEGORIES:Gudstjenester,Kalender
END:VEVENT
BEGIN:VEVENT
DTSTART;TZID=Europe/Oslo:20260219T153000
DTEND;TZID=Europe/Oslo:20260219T153000
DTSTAMP:20260423T173924
CREATED:20260206T165552Z
LAST-MODIFIED:20260206T165552Z
UID:6423-1771515000-1771515000@www.sentrumkirken.no
SUMMARY:AKU – samling for konfirmantene
DESCRIPTION:
URL:https://www.sentrumkirken.no/aktivitet/aku-samling-for-konfirmantene-9/
LOCATION:Cafe Freezone
CATEGORIES:Kalender,Samlinger
END:VEVENT
BEGIN:VEVENT
DTSTART;VALUE=DATE:20260221
DTEND;VALUE=DATE:20260225
DTSTAMP:20260423T173924
CREATED:20260101T093528Z
LAST-MODIFIED:20260101T093809Z
UID:6329-1771632000-1771977599@www.sentrumkirken.no
SUMMARY:Vinterleir på Myking: Ungdom (8. klasse og eldre)
DESCRIPTION:
URL:https://www.sentrumkirken.no/aktivitet/vinterleir-pa-myking-ungdom-8-klasse-og-eldre/
LOCATION:Myking
CATEGORIES:Arrangementer,Kalender
END:VEVENT
BEGIN:VEVENT
DTSTART;TZID=Europe/Oslo:20260222T190000
DTEND;TZID=Europe/Oslo:20260222T203000
DTSTAMP:20260423T173924
CREATED:20260213T132447Z
LAST-MODIFIED:20260213T132447Z
UID:6450-1771786800-1771792200@www.sentrumkirken.no
SUMMARY:Gospelgudstjeneste i Hønefoss kirke kl 19
DESCRIPTION:
URL:https://www.sentrumkirken.no/aktivitet/gospelgudstjeneste-i-honefoss-kirke-kl-19/
LOCATION:Hønefoss kirke\, Hønefoss
CATEGORIES:Arrangementer,Kalender
END:VEVENT
BEGIN:VEVENT
DTSTART;TZID=Europe/Oslo:20260225T080000
DTEND;TZID=Europe/Oslo:20260228T170000
DTSTAMP:20260423T173924
CREATED:20260101T093734Z
LAST-MODIFIED:20260101T093734Z
UID:6331-1772006400-1772298000@www.sentrumkirken.no
SUMMARY:Vinterleir på Myking: Tweens (4.-7. klasse)
DESCRIPTION:
URL:https://www.sentrumkirken.no/aktivitet/vinterleir-pa-myking-tweens-4-7-klasse/
LOCATION:Myking
CATEGORIES:Arrangementer,Kalender
END:VEVENT
END:VCALENDAR